BEGIN:VCALENDAR
VERSION:2.0
PRODID:-//Sydney Human Towers - ECPv6.15.10//NONSGML v1.0//EN
CALSCALE:GREGORIAN
METHOD:PUBLISH
X-WR-CALNAME:Sydney Human Towers
X-ORIGINAL-URL:https://www.sydneyhumantowers.com
X-WR-CALDESC:Events for Sydney Human Towers
REFRESH-INTERVAL;VALUE=DURATION:PT1H
X-Robots-Tag:noindex
X-PUBLISHED-TTL:PT1H
BEGIN:VTIMEZONE
TZID:UTC
BEGIN:STANDARD
TZOFFSETFROM:+0000
TZOFFSETTO:+0000
TZNAME:UTC
DTSTART:20160101T000000
END:STANDARD
END:VTIMEZONE
BEGIN:VEVENT
DTSTART;TZID=UTC:20191102T100000
DTEND;TZID=UTC:20191102T170000
DTSTAMP:20260423T155403
CREATED:20191018T072530Z
LAST-MODIFIED:20191018T074639Z
UID:1311-1572688800-1572714000@www.sydneyhumantowers.com
SUMMARY:CastellFest 2019
DESCRIPTION:Sydney locals are invited to test their skills at building Human Towers \nHuman towers is an activity originated in the 1800s in Catalonia (north-east of Spain). Although the majority of teams come from Catalan lands\, tradition has extended to international ones such as Hangzhou (China)\, London\, Paris and Copenhagen. \nSydney Human Towers is opening their doors to all Sydneysiders to come and experience first hand this unique tradition\, enlisted as Intangible Cultural Heritage of Humanity by Unesco since 2010. \nThe event will take place on Saturday 2nd November at the Gure Txoko (Basque Club) in Darlinghurst and will include photography exhibitions\, performances\, workshops and of course the screening of the best moments of the biggest human towers contest\, held every 2 years. We have attached the event’s program for your reference. \nEntry to the event is free and activities are open to all ages. \n \n  \nFor more information contact: \nSydney Human Towers – \nsydneyhumantowers@gmail.com \nAbout the ‘Concurs Casteller’ (Human Towers Contest): \n\nAlmost 50 teams compete during two days to create the most complex and challenging towers to claim their title.\nIn its last edition\, the event was followed by millions around the world through platforms such as:\nRed Bull TV – https://www.redbull.com/int-en/tv/event/AP-1NZ7H2E1W1W11/concurs-de-castells-2016\nIncluding the most viewed video that year on Red Bull TV.\n\nBBC – https://www.bbc.com/news/av/world-europe-37554023/child-climbs-to-top-of-winning-human-tower-in-competition\nhttps://www.bbc.com/news/world-europe-37543861\n\nEuronews – https://www.euronews.com/2016/10/02/thousands-attend-human-tower-competition-in-spain\n\nRT – https://www.rt.com/viral/361480-human-towers-castells-tarragona/\n\nAnd even in Australia: Channel 7 – https://vimeo.com/188134862\n\n  \nMore information on who we are and what we do can be found in: \nSydneyHumanTowers.com \nFacebook\, Instagram and Twiter: @CastellersSyd.
URL:https://www.sydneyhumantowers.com/event/castellfest2019/
END:VEVENT
BEGIN:VEVENT
DTSTART;TZID=UTC:20181202T080000
DTEND;TZID=UTC:20181202T170000
DTSTAMP:20260423T155403
CREATED:20180911T230913Z
LAST-MODIFIED:20180911T230913Z
UID:875-1543737600-1543770000@www.sydneyhumantowers.com
SUMMARY:Winter performance
DESCRIPTION:
URL:https://www.sydneyhumantowers.com/event/winter-performance/
END:VEVENT
BEGIN:VEVENT
DTSTART;TZID=UTC:20181121T190000
DTEND;TZID=UTC:20181121T210000
DTSTAMP:20260423T155403
CREATED:20180911T230807Z
LAST-MODIFIED:20180911T230807Z
UID:873-1542826800-1542834000@www.sydneyhumantowers.com
SUMMARY:Performance for CATO
DESCRIPTION:
URL:https://www.sydneyhumantowers.com/event/performance-for-cato/
LOCATION:Police Museum
END:VEVENT
BEGIN:VEVENT
DTSTART;TZID=UTC:20181116T080000
DTEND;TZID=UTC:20181118T170000
DTSTAMP:20260423T155403
CREATED:20180911T230702Z
LAST-MODIFIED:20180911T230702Z
UID:870-1542355200-1542560400@www.sydneyhumantowers.com
SUMMARY:Summercamps
DESCRIPTION:
URL:https://www.sydneyhumantowers.com/event/summercamps/
LOCATION:Bathurst\, Australia
END:VEVENT
BEGIN:VEVENT
DTSTART;TZID=UTC:20181020T103000
DTEND;TZID=UTC:20181020T180000
DTSTAMP:20260423T155403
CREATED:20181009T103019Z
LAST-MODIFIED:20181009T111711Z
UID:880-1540031400-1540058400@www.sydneyhumantowers.com
SUMMARY:Human Towers Fest
DESCRIPTION:Sydney locals are invited to test their skills at building Human Towers \nThis past weekend (6-7 October\, 2018) one of the most colorful and impressive events in the world took place in a town one hour south of Barcelona: the Human Towers Contest.  \nThis incredible event gathers hundreds of people from competing teams every two years to claim the title of the ‘Best Human Tower Team’. Although the majority of teams come from Catalan lands\, tradition has extended to international ones such as Hangzhou (China)\, London\, Paris and Copenhagen. \n \nIn light of this unique event\, the Sydney Human Towers is opening their doors to all Sydneysiders to come and experience first hand this unique tradition\, enlisted as Intangible Cultural Heritage of Humanity by Unesco since 2010. \nThe event will take place on Saturday 20th October at the Gure Txoko (Basque Club) in Darlinghurst and will include photography exhibitions\, performances\, workshops and of course the screening of the best moments of the contest. We have attached the event’s program for your reference.  \nEntry to the event is free and activities are open to all ages.  \n \nFor more information contact: \n  \nSydney Human Towers – info@sydneyhymantowers.com \nAbout the ‘Concurs Casteller’ (Human Towers Contest): \n\nAlmost 50 teams compete during two days to create the most complex and challenging towers to claim their title.\nIn its last edition\, the event was followed by millions around the world through platforms such as:\nRed Bull TV – https://www.redbull.com/int-en/tv/event/AP-1NZ7H2E1W1W11/concurs-de-castells-2016\nIncluding the most viewed video that year on Red Bull TV.\n\nBBC – https://www.bbc.com/news/av/world-europe-37554023/child-climbs-to-top-of-winning-human-tower-in-competition\nhttps://www.bbc.com/news/world-europe-37543861\n\nEuronews – https://www.euronews.com/2016/10/02/thousands-attend-human-tower-competition-in-spain\n\nRT – https://www.rt.com/viral/361480-human-towers-castells-tarragona/\n\nAnd even in Australia: Channel 7 – https://vimeo.com/188134862\n\n\nThis year there will be live broadcasting of the event in (English\, Catalan and Spanish): \nhttps://xala.cat/details/5bb4cfbc1de1c4001b92c3c6 \n  \nMore information on who we are and what we do can be found in: \nSydneyHumanTowers.com \nFacebook\, Instagram and Twiter: @CastellersSyd.
URL:https://www.sydneyhumantowers.com/event/human-towers-fest/
LOCATION:Gure Txoko\, 344 Liverpool street\, Sydney\, Australia
END:VEVENT
BEGIN:VEVENT
DTSTART;TZID=UTC:20181020T080000
DTEND;TZID=UTC:20181021T170000
DTSTAMP:20260423T155403
CREATED:20180911T230552Z
LAST-MODIFIED:20180911T230552Z
UID:868-1540022400-1540141200@www.sydneyhumantowers.com
SUMMARY:Human Towers weekend
DESCRIPTION:
URL:https://www.sydneyhumantowers.com/event/human-towers-weekend/
END:VEVENT
BEGIN:VEVENT
DTSTART;TZID=UTC:20181007T080000
DTEND;TZID=UTC:20181007T170000
DTSTAMP:20260423T155403
CREATED:20180911T230427Z
LAST-MODIFIED:20180911T230427Z
UID:866-1538899200-1538931600@www.sydneyhumantowers.com
SUMMARY:Txokocooks
DESCRIPTION:
URL:https://www.sydneyhumantowers.com/event/txokocooks/
LOCATION:Gure Txoko\, 344 Liverpool street\, Sydney\, Australia
END:VEVENT
BEGIN:VEVENT
DTSTART;VALUE=DATE:20180909
DTEND;VALUE=DATE:20180910
DTSTAMP:20260423T155403
CREATED:20180903T230213Z
LAST-MODIFIED:20180911T230337Z
UID:863-1536451200-1536537599@www.sydneyhumantowers.com
SUMMARY:La Diada 2018
DESCRIPTION:The biggest performance of the year!
URL:https://www.sydneyhumantowers.com/event/eurofest/
LOCATION:Royal Botanic Gardens\, Royal Botanic Gardens\, Sydney\, Australia
END:VEVENT
BEGIN:VEVENT
DTSTART;VALUE=DATE:20180218
DTEND;VALUE=DATE:20180219
DTSTAMP:20260423T155403
CREATED:20171214T021445Z
LAST-MODIFIED:20171214T021539Z
UID:725-1518912000-1518998399@www.sydneyhumantowers.com
SUMMARY:Festa Major Performance
DESCRIPTION:
URL:https://www.sydneyhumantowers.com/event/weekly-rehearsal-17/
LOCATION:Royal Botanic Gardens\, Royal Botanic Gardens\, Sydney\, Australia
END:VEVENT
BEGIN:VEVENT
DTSTART;TZID=UTC:20171221T180000
DTEND;TZID=UTC:20171221T200000
DTSTAMP:20260423T155403
CREATED:20171214T012024Z
LAST-MODIFIED:20171214T012024Z
UID:708-1513879200-1513886400@www.sydneyhumantowers.com
SUMMARY:Weekly rehearsal
DESCRIPTION:
URL:https://www.sydneyhumantowers.com/event/weekly-rehearsal-16/
LOCATION:Weekly rehearsal\, Hyde Park\, City\, NSW\, 2000\, Australia
END:VEVENT
BEGIN:VEVENT
DTSTART;TZID=UTC:20171214T180000
DTEND;TZID=UTC:20171214T200000
DTSTAMP:20260423T155403
CREATED:20171214T011923Z
LAST-MODIFIED:20171214T011923Z
UID:706-1513274400-1513281600@www.sydneyhumantowers.com
SUMMARY:Weekly rehearsal
DESCRIPTION:
URL:https://www.sydneyhumantowers.com/event/weekly-rehearsal-15/
LOCATION:Weekly rehearsal\, Hyde Park\, City\, NSW\, 2000\, Australia
END:VEVENT
BEGIN:VEVENT
DTSTART;VALUE=DATE:20171209
DTEND;VALUE=DATE:20171211
DTSTAMP:20260423T155403
CREATED:20171214T012252Z
LAST-MODIFIED:20171214T012252Z
UID:713-1512777600-1512950399@www.sydneyhumantowers.com
SUMMARY:Performance in Melbourne
DESCRIPTION:
URL:https://www.sydneyhumantowers.com/event/performance-in-melbourne/
LOCATION:Melbourne
END:VEVENT
BEGIN:VEVENT
DTSTART;TZID=UTC:20171206T180000
DTEND;TZID=UTC:20171206T200000
DTSTAMP:20260423T155403
CREATED:20171214T012532Z
LAST-MODIFIED:20171214T012532Z
UID:718-1512583200-1512590400@www.sydneyhumantowers.com
SUMMARY:Performance at Police Museum
DESCRIPTION:
URL:https://www.sydneyhumantowers.com/event/performance-at-police-museum/
LOCATION:Police Museum
END:VEVENT
BEGIN:VEVENT
DTSTART;TZID=UTC:20171203T130000
DTEND;TZID=UTC:20171203T143000
DTSTAMP:20260423T155403
CREATED:20171214T013220Z
LAST-MODIFIED:20171214T013220Z
UID:722-1512306000-1512311400@www.sydneyhumantowers.com
SUMMARY:Christmas performance
DESCRIPTION:
URL:https://www.sydneyhumantowers.com/event/christmas-performance/
LOCATION:Memorial Park
END:VEVENT
BEGIN:VEVENT
DTSTART;VALUE=DATE:20171117
DTEND;VALUE=DATE:20171120
DTSTAMP:20260423T155403
CREATED:20171214T012143Z
LAST-MODIFIED:20171214T012143Z
UID:710-1510876800-1511135999@www.sydneyhumantowers.com
SUMMARY:Castellers de Sydney Summer Camp
DESCRIPTION:
URL:https://www.sydneyhumantowers.com/event/castellers-de-sydney-summer-camp/
LOCATION:Port Stephens
END:VEVENT
BEGIN:VEVENT
DTSTART;TZID=UTC:20170928T180000
DTEND;TZID=UTC:20170928T200000
DTSTAMP:20260423T155403
CREATED:20170808T013316Z
LAST-MODIFIED:20170808T013316Z
UID:503-1506621600-1506628800@www.sydneyhumantowers.com
SUMMARY:Weekly rehearsal
DESCRIPTION:
URL:https://www.sydneyhumantowers.com/event/weekly-rehearsal-14/
LOCATION:Weekly rehearsal\, Hyde Park\, City\, NSW\, 2000\, Australia
END:VEVENT
BEGIN:VEVENT
DTSTART;TZID=UTC:20170921T180000
DTEND;TZID=UTC:20170921T200000
DTSTAMP:20260423T155403
CREATED:20170808T013230Z
LAST-MODIFIED:20170808T013230Z
UID:501-1506016800-1506024000@www.sydneyhumantowers.com
SUMMARY:Weekly rehearsal
DESCRIPTION:
URL:https://www.sydneyhumantowers.com/event/weekly-rehearsal-13/
LOCATION:Weekly rehearsal\, Hyde Park\, City\, NSW\, 2000\, Australia
END:VEVENT
BEGIN:VEVENT
DTSTART;TZID=UTC:20170917T120000
DTEND;TZID=UTC:20170917T150000
DTSTAMP:20260423T155403
CREATED:20170808T014511Z
LAST-MODIFIED:20170808T014511Z
UID:517-1505649600-1505660400@www.sydneyhumantowers.com
SUMMARY:PERFORMANCE: Artarmon public school cultural day
DESCRIPTION:
URL:https://www.sydneyhumantowers.com/event/performance-artarmon-public-school-cultural-day/
LOCATION:Artarmon Public School\, 5 Abbott Road\, Artarmon\, Australia
END:VEVENT
BEGIN:VEVENT
DTSTART;TZID=UTC:20170914T180000
DTEND;TZID=UTC:20170914T200000
DTSTAMP:20260423T155403
CREATED:20170808T013142Z
LAST-MODIFIED:20170808T013142Z
UID:499-1505412000-1505419200@www.sydneyhumantowers.com
SUMMARY:Weekly rehearsal
DESCRIPTION:
URL:https://www.sydneyhumantowers.com/event/weekly-rehearsal-12/
LOCATION:Weekly rehearsal\, Hyde Park\, City\, NSW\, 2000\, Australia
END:VEVENT
BEGIN:VEVENT
DTSTART;TZID=UTC:20170910T120000
DTEND;TZID=UTC:20170910T160000
DTSTAMP:20260423T155403
CREATED:20170808T014210Z
LAST-MODIFIED:20170808T014210Z
UID:512-1505044800-1505059200@www.sydneyhumantowers.com
SUMMARY:PERFORMANCE: Diada de Catalunya
DESCRIPTION:
URL:https://www.sydneyhumantowers.com/event/performance-diada-de-catalunya/
LOCATION:Royal Botanic Gardens\, Royal Botanic Gardens\, Sydney\, Australia
END:VEVENT
BEGIN:VEVENT
DTSTART;TZID=UTC:20170909T150000
DTEND;TZID=UTC:20170909T190000
DTSTAMP:20260423T155403
CREATED:20170808T013851Z
LAST-MODIFIED:20170808T014245Z
UID:508-1504969200-1504983600@www.sydneyhumantowers.com
SUMMARY:PERFORMANCE: Eurofest
DESCRIPTION:
URL:https://www.sydneyhumantowers.com/event/performance-at-the-eurofest/
LOCATION:Ararat Reserve Frenchs Forest\, Ararat Reserve Frenchs Forest\, Sydney\, Australia
END:VEVENT
BEGIN:VEVENT
DTSTART;TZID=UTC:20170907T180000
DTEND;TZID=UTC:20170907T200000
DTSTAMP:20260423T155403
CREATED:20170808T013058Z
LAST-MODIFIED:20170808T013058Z
UID:497-1504807200-1504814400@www.sydneyhumantowers.com
SUMMARY:Weekly rehearsal
DESCRIPTION:
URL:https://www.sydneyhumantowers.com/event/weekly-rehearsal-11/
LOCATION:Weekly rehearsal\, Hyde Park\, City\, NSW\, 2000\, Australia
END:VEVENT
BEGIN:VEVENT
DTSTART;TZID=UTC:20170831T180000
DTEND;TZID=UTC:20170831T200000
DTSTAMP:20260423T155403
CREATED:20170808T012945Z
LAST-MODIFIED:20170808T012945Z
UID:495-1504202400-1504209600@www.sydneyhumantowers.com
SUMMARY:Weekly rehearsal
DESCRIPTION:
URL:https://www.sydneyhumantowers.com/event/weekly-rehearsal-10/
LOCATION:Weekly rehearsal\, Hyde Park\, City\, NSW\, 2000\, Australia
END:VEVENT
BEGIN:VEVENT
DTSTART;TZID=UTC:20170824T180000
DTEND;TZID=UTC:20170824T200000
DTSTAMP:20260423T155403
CREATED:20170808T012859Z
LAST-MODIFIED:20170808T012859Z
UID:493-1503597600-1503604800@www.sydneyhumantowers.com
SUMMARY:Weekly rehearsal
DESCRIPTION:
URL:https://www.sydneyhumantowers.com/event/weekly-rehearsal-9/
LOCATION:Weekly rehearsal\, Hyde Park\, City\, NSW\, 2000\, Australia
END:VEVENT
BEGIN:VEVENT
DTSTART;TZID=UTC:20170819T180000
DTEND;TZID=UTC:20170819T220000
DTSTAMP:20260423T155403
CREATED:20170808T013532Z
LAST-MODIFIED:20170808T013532Z
UID:505-1503165600-1503180000@www.sydneyhumantowers.com
SUMMARY:General assembly of the Castellers de Sydney
DESCRIPTION:
URL:https://www.sydneyhumantowers.com/event/general-assembly-of-the-castellers-de-sydney/
LOCATION:Gure Txoko\, 344 Liverpool street\, Sydney\, Australia
END:VEVENT
BEGIN:VEVENT
DTSTART;TZID=UTC:20170817T180000
DTEND;TZID=UTC:20170817T200000
DTSTAMP:20260423T155403
CREATED:20170808T012758Z
LAST-MODIFIED:20170808T012758Z
UID:491-1502992800-1503000000@www.sydneyhumantowers.com
SUMMARY:Weekly rehearsal
DESCRIPTION:
URL:https://www.sydneyhumantowers.com/event/weekly-rehearsal-8/
END:VEVENT
BEGIN:VEVENT
DTSTART;TZID=UTC:20170810T180000
DTEND;TZID=UTC:20170810T200000
DTSTAMP:20260423T155403
CREATED:20170808T012641Z
LAST-MODIFIED:20170808T012641Z
UID:489-1502388000-1502395200@www.sydneyhumantowers.com
SUMMARY:Weekly rehearsal
DESCRIPTION:
URL:https://www.sydneyhumantowers.com/event/weekly-rehearsal-7/
LOCATION:Weekly rehearsal\, Hyde Park\, City\, NSW\, 2000\, Australia
END:VEVENT
BEGIN:VEVENT
DTSTART;TZID=UTC:20170706T180000
DTEND;TZID=UTC:20170706T200000
DTSTAMP:20260423T155403
CREATED:20170515T004632Z
LAST-MODIFIED:20170515T004632Z
UID:167-1499364000-1499371200@www.sydneyhumantowers.com
SUMMARY:Weekly Rehearsal
DESCRIPTION:Our rehearsals \nWe rehearse every week\, and everybody is welcome! If you want you will be able to climb on top on people\, get climbed or to stay in the base. It´s totally up to you\, but we guarantee it is an experience very hard to forget! \nWhen? \nEvery Thursday at 6 pm \nWhere? \nIn Hyde Park!
URL:https://www.sydneyhumantowers.com/event/weekly-rehearsal-6/
END:VEVENT
BEGIN:VEVENT
DTSTART;TZID=UTC:20170629T180000
DTEND;TZID=UTC:20170629T200000
DTSTAMP:20260423T155403
CREATED:20170515T004537Z
LAST-MODIFIED:20170515T004537Z
UID:165-1498759200-1498766400@www.sydneyhumantowers.com
SUMMARY:Weekly Rehearsal
DESCRIPTION:Our rehearsals \nWe rehearse every week\, and everybody is welcome! If you want you will be able to climb on top on people\, get climbed or to stay in the base. It´s totally up to you\, but we guarantee it is an experience very hard to forget! \nWhen? \nEvery Thursday at 6 pm \nWhere? \nIn Hyde Park!
URL:https://www.sydneyhumantowers.com/event/weekly-rehearsal-5/
END:VEVENT
BEGIN:VEVENT
DTSTART;TZID=UTC:20170622T180000
DTEND;TZID=UTC:20170622T200000
DTSTAMP:20260423T155403
CREATED:20170515T004446Z
LAST-MODIFIED:20170515T004446Z
UID:163-1498154400-1498161600@www.sydneyhumantowers.com
SUMMARY:Weekly Rehearsal
DESCRIPTION:Our rehearsals \nWe rehearse every week\, and everybody is welcome! If you want you will be able to climb on top on people\, get climbed or to stay in the base. It´s totally up to you\, but we guarantee it is an experience very hard to forget! \nWhen? \nEvery Thursday at 6 pm \nWhere? \nIn Hyde Park!
URL:https://www.sydneyhumantowers.com/event/weekly-rehearsal-4/
END:VEVENT
END:VCALENDAR